Workbook

Sheet zš celkem
A1: Základní škola Jeseník, příspěvková rganizace
A2: iČ: 70599921
A4: celkem
A5: Návrh rozpočtu 2025
A8: Ukazatel | E8: 2024 | F8: 2025
E9: schválený | F9: výhled | G9: návrh
E10: / v tis. Kč /
A11: 1. | B11: Náklady PO - účtová tř. 5 celkem | E11: =E13+E14+E15+E16+E17+E18+E21+E22+E23+E24+E25+E26+E27+E28 -> 78678 | F11: =F13+F14+F15+F16+F17+F18+F21+F22+F23+F24+F25+F26+F27+F28 -> 85643 | G11: =G13+G14+G15+G16+G17+G18+G21+G22+G23+G24+G25+G26+G27+G28 -> 88755
A12: z toho :
A13: 2. | C13: Spotřeba materiálu ( 501) | E13: =SUM(' 1- podrobný rozpis Průchodní'!E13+'1-podrobný rozpis Nábřežní'!E13+'1-podrobný rozpis B.Němcové'!E13+'1 podrobný rozpis ŠJ'!E13) -> 2040 | F13: =' 1- podrobný rozpis Průchodní'!F13+'1-podrobný rozpis Nábřežní'!F13+'1-podrobný rozpis B.Němcové'!F13+'1 podrobný rozpis ŠJ'!F13 -> 2163 | G13: =SUM(' 1- podrobný rozpis Průchodní'!G13+'1-podrobný rozpis Nábřežní'!G13+'1-podrobný rozpis B.Němcové'!G13+'1 podrobný rozpis ŠJ'!G13) -> 2158
A14: 3. | C14: Spotřeba energie (502) | E14: =SUM(' 1- podrobný rozpis Průchodní'!E14+'1-podrobný rozpis Nábřežní'!E14+'1-podrobný rozpis B.Němcové'!E14+'1 podrobný rozpis ŠJ'!E14) -> 5821 | F14: =' 1- podrobný rozpis Průchodní'!F14+'1-podrobný rozpis Nábřežní'!F14+'1-podrobný rozpis B.Němcové'!F14+'1 podrobný rozpis ŠJ'!F14 -> 6030 | G14: =SUM(' 1- podrobný rozpis Průchodní'!G14+'1-podrobný rozpis Nábřežní'!G14+'1-podrobný rozpis B.Němcové'!G14+'1 podrobný rozpis ŠJ'!G14) -> 6324
A15: 4. | C15: Opravy a udržování (511) | E15: =SUM(' 1- podrobný rozpis Průchodní'!E15+'1-podrobný rozpis Nábřežní'!E15+'1-podrobný rozpis B.Němcové'!E15+'1 podrobný rozpis ŠJ'!E15) -> 1713 | F15: =' 1- podrobný rozpis Průchodní'!F15+'1-podrobný rozpis Nábřežní'!F15+'1-podrobný rozpis B.Němcové'!F15+'1 podrobný rozpis ŠJ'!F15 -> 1570 | G15: =SUM(' 1- podrobný rozpis Průchodní'!G15+'1-podrobný rozpis Nábřežní'!G15+'1-podrobný rozpis B.Němcové'!G15+'1 podrobný rozpis ŠJ'!G15) -> 1570
A16: 5. | C16: Cestovné (512) | E16: =SUM(' 1- podrobný rozpis Průchodní'!E16+'1-podrobný rozpis Nábřežní'!E16+'1-podrobný rozpis B.Němcové'!E16+'1 podrobný rozpis ŠJ'!E16) -> 133 | F16: =' 1- podrobný rozpis Průchodní'!F16+'1-podrobný rozpis Nábřežní'!F16+'1-podrobný rozpis B.Němcové'!F16+'1 podrobný rozpis ŠJ'!F16 -> 231 | G16: =SUM(' 1- podrobný rozpis Průchodní'!G16+'1-podrobný rozpis Nábřežní'!G16+'1-podrobný rozpis B.Němcové'!G16+'1 podrobný rozpis ŠJ'!G16) -> 231
A17: 6. | C17: Ostatní služby (518) | E17: =SUM(' 1- podrobný rozpis Průchodní'!E17+'1-podrobný rozpis Nábřežní'!E17+'1-podrobný rozpis B.Němcové'!E17+'1 podrobný rozpis ŠJ'!E17) -> 3304 | F17: =' 1- podrobný rozpis Průchodní'!F17+'1-podrobný rozpis Nábřežní'!F17+'1-podrobný rozpis B.Němcové'!F17+'1 podrobný rozpis ŠJ'!F17 -> 4233 | G17: =SUM(' 1- podrobný rozpis Průchodní'!G17+'1-podrobný rozpis Nábřežní'!G17+'1-podrobný rozpis B.Němcové'!G17+'1 podrobný rozpis ŠJ'!G17) -> 6715
A18: 7. | C18: Mzdové náklady (číslo účtu 521) | E18: =SUM(E19:E20) -> 46379 | F18: =SUM(F19:F20) -> 50839 | G18: =SUM(G19:G20) -> 50839
A19: 8. | C19: z toho : | D19: platy zaměstnanců | E19: =SUM(' 1- podrobný rozpis Průchodní'!E19+'1-podrobný rozpis Nábřežní'!E19+'1-podrobný rozpis B.Němcové'!E19+'1 podrobný rozpis ŠJ'!E19) -> 46052 | F19: =' 1- podrobný rozpis Průchodní'!F19+'1-podrobný rozpis Nábřežní'!F19+'1-podrobný rozpis B.Němcové'!F19+'1 podrobný rozpis ŠJ'!F19 -> 50352 | G19: =SUM(' 1- podrobný rozpis Průchodní'!G19+'1-podrobný rozpis Nábřežní'!G19+'1-podrobný rozpis B.Němcové'!G19+'1 podrobný rozpis ŠJ'!G19) -> 50352
A20: 9. | D20: OON | E20: =SUM(' 1- podrobný rozpis Průchodní'!E20+'1-podrobný rozpis Nábřežní'!E20+'1-podrobný rozpis B.Němcové'!E20+'1 podrobný rozpis ŠJ'!E20) -> 327 | F20: =' 1- podrobný rozpis Průchodní'!F20+'1-podrobný rozpis Nábřežní'!F20+'1-podrobný rozpis B.Němcové'!F20+'1 podrobný rozpis ŠJ'!F20 -> 487 | G20: =SUM(' 1- podrobný rozpis Průchodní'!G20+'1-podrobný rozpis Nábřežní'!G20+'1-podrobný rozpis B.Němcové'!G20+'1 podrobný rozpis ŠJ'!G20) -> 487
A21: 10. | C21: Zákonné sociální pojištění (524) | E21: =SUM(' 1- podrobný rozpis Průchodní'!E21+'1-podrobný rozpis Nábřežní'!E21+'1-podrobný rozpis B.Němcové'!E21+'1 podrobný rozpis ŠJ'!E21) -> 15265 | F21: =' 1- podrobný rozpis Průchodní'!F21+'1-podrobný rozpis Nábřežní'!F21+'1-podrobný rozpis B.Němcové'!F21+'1 podrobný rozpis ŠJ'!F21 -> 16225 | G21: =SUM(' 1- podrobný rozpis Průchodní'!G21+'1-podrobný rozpis Nábřežní'!G21+'1-podrobný rozpis B.Němcové'!G21+'1 podrobný rozpis ŠJ'!G21) -> 16225
A22: 11. | C22: Ostatní sociální pojištění (525) | E22: =SUM(' 1- podrobný rozpis Průchodní'!E22+'1-podrobný rozpis Nábřežní'!E22+'1-podrobný rozpis B.Němcové'!E22+'1 podrobný rozpis ŠJ'!E22) -> 178 | F22: =' 1- podrobný rozpis Průchodní'!F22+'1-podrobný rozpis Nábřežní'!F22+'1-podrobný rozpis B.Němcové'!F22+'1 podrobný rozpis ŠJ'!F22 -> 177 | G22: =SUM(' 1- podrobný rozpis Průchodní'!G22+'1-podrobný rozpis Nábřežní'!G22+'1-podrobný rozpis B.Němcové'!G22+'1 podrobný rozpis ŠJ'!G22) -> 177
A23: 12. | C23: Zákonné sociální náklady (527) | E23: =SUM(' 1- podrobný rozpis Průchodní'!E23+'1-podrobný rozpis Nábřežní'!E23+'1-podrobný rozpis B.Němcové'!E23+'1 podrobný rozpis ŠJ'!E23) -> 1160 | F23: =' 1- podrobný rozpis Průchodní'!F23+'1-podrobný rozpis Nábřežní'!F23+'1-podrobný rozpis B.Němcové'!F23+'1 podrobný rozpis ŠJ'!F23 -> 1278 | G23: =SUM(' 1- podrobný rozpis Průchodní'!G23+'1-podrobný rozpis Nábřežní'!G23+'1-podrobný rozpis B.Němcové'!G23+'1 podrobný rozpis ŠJ'!G23) -> 1275
A24: 13. | C24: Daně a poplatky (531,532 a 538) | E24: =SUM(' 1- podrobný rozpis Průchodní'!E24+'1-podrobný rozpis Nábřežní'!E24+'1-podrobný rozpis B.Němcové'!E24+'1 podrobný rozpis ŠJ'!E24) -> 0 | F24: =' 1- podrobný rozpis Průchodní'!F24+'1-podrobný rozpis Nábřežní'!F24+'1-podrobný rozpis B.Němcové'!F24+'1 podrobný rozpis ŠJ'!F24 -> 0 | G24: =SUM(' 1- podrobný rozpis Průchodní'!G24+'1-podrobný rozpis Nábřežní'!G24+'1-podrobný rozpis B.Němcové'!G24+'1 podrobný rozpis ŠJ'!G24) -> 0
A25: 14. | C25: Manka a škody (číslo účtu 548) | E25: =SUM(' 1- podrobný rozpis Průchodní'!E25+'1-podrobný rozpis Nábřežní'!E25+'1-podrobný rozpis B.Němcové'!E25+'1 podrobný rozpis ŠJ'!E25) -> 4 | F25: =' 1- podrobný rozpis Průchodní'!F25+'1-podrobný rozpis Nábřežní'!F25+'1-podrobný rozpis B.Němcové'!F25+'1 podrobný rozpis ŠJ'!F25 -> 4 | G25: =SUM(' 1- podrobný rozpis Průchodní'!G25+'1-podrobný rozpis Nábřežní'!G25+'1-podrobný rozpis B.Němcové'!G25+'1 podrobný rozpis ŠJ'!G25) -> 4
A26: 15. | C26: Ostatní náklady (549) | E26: =SUM(' 1- podrobný rozpis Průchodní'!E26+'1-podrobný rozpis Nábřežní'!E26+'1-podrobný rozpis B.Němcové'!E26+'1 podrobný rozpis ŠJ'!E26) -> 120 | F26: =' 1- podrobný rozpis Průchodní'!F26+'1-podrobný rozpis Nábřežní'!F26+'1-podrobný rozpis B.Němcové'!F26+'1 podrobný rozpis ŠJ'!F26 -> 182 | G26: =SUM(' 1- podrobný rozpis Průchodní'!G26+'1-podrobný rozpis Nábřežní'!G26+'1-podrobný rozpis B.Němcové'!G26+'1 podrobný rozpis ŠJ'!G26) -> 152
A27: 16. | C27: Odpisy dlouh. nehmot. a hmot. majetku ( 551) | E27: =SUM(' 1- podrobný rozpis Průchodní'!E27+'1-podrobný rozpis Nábřežní'!E27+'1-podrobný rozpis B.Němcové'!E27+'1 podrobný rozpis ŠJ'!E27) -> 1966 | F27: =' 1- podrobný rozpis Průchodní'!F27+'1-podrobný rozpis Nábřežní'!F27+'1-podrobný rozpis B.Němcové'!F27+'1 podrobný rozpis ŠJ'!F27 -> 1965 | G27: =SUM(' 1- podrobný rozpis Průchodní'!G27+'1-podrobný rozpis Nábřežní'!G27+'1-podrobný rozpis B.Němcové'!G27+'1 podrobný rozpis ŠJ'!G27) -> 1965
A28: 17. | C28: Pořízení drobného dlouhodobého majetku (558) | E28: =SUM(' 1- podrobný rozpis Průchodní'!E28+'1-podrobný rozpis Nábřežní'!E28+'1-podrobný rozpis B.Němcové'!E28+'1 podrobný rozpis ŠJ'!E28) -> 595 | F28: =' 1- podrobný rozpis Průchodní'!F28+'1-podrobný rozpis Nábřežní'!F28+'1-podrobný rozpis B.Němcové'!F28+'1 podrobný rozpis ŠJ'!F28 -> 746 | G28: =SUM(' 1- podrobný rozpis Průchodní'!G28+'1-podrobný rozpis Nábřežní'!G28+'1-podrobný rozpis B.Němcové'!G28+'1 podrobný rozpis ŠJ'!G28) -> 1120
A29: 18. | B29: Výnosy z činnosti PO - účtová tř. 6 celkem | E29: =SUM(E31+E34+E36+E35+E37+E38+E39) -> 78678 | F29: =SUM(F31+F34+F36+F35+F37+F38+F39) -> 85643 | G29: =SUM(G31+G34+G36+G35+G37+G38+G39) -> 88755
A30: z toho :
A31: 19. | C31: Tržby z prodeje služeb (číslo účtu 602) | E31: =SUM(E32:E33) -> 320 | F31: =SUM(F32:F33) -> 356 | G31: =SUM(G32:G33) -> 356
A32: 20. | C32: z toho: úplata | E32: =SUM(' 1- podrobný rozpis Průchodní'!E32+'1-podrobný rozpis Nábřežní'!E32+'1-podrobný rozpis B.Němcové'!E32+'1 podrobný rozpis ŠJ'!E32) -> 320 | F32: =SUM(' 1- podrobný rozpis Průchodní'!F32+'1-podrobný rozpis Nábřežní'!F32+'1-podrobný rozpis B.Němcové'!F32+'1 podrobný rozpis ŠJ'!F32) -> 356 | G32: =SUM(' 1- podrobný rozpis Průchodní'!G32+'1-podrobný rozpis Nábřežní'!G32+'1-podrobný rozpis B.Němcové'!G32+'1 podrobný rozpis ŠJ'!G32) -> 356
A33: 21. | D33: stravování | E33: =SUM(' 1- podrobný rozpis Průchodní'!E33+'1-podrobný rozpis Nábřežní'!E33+'1-podrobný rozpis B.Němcové'!E33+'1 podrobný rozpis ŠJ'!E33) -> 0 | F33: =SUM(' 1- podrobný rozpis Průchodní'!F33+'1-podrobný rozpis Nábřežní'!F33+'1-podrobný rozpis B.Němcové'!F33+'1 podrobný rozpis ŠJ'!F33) -> 0 | G33: =SUM(' 1- podrobný rozpis Průchodní'!G33+'1-podrobný rozpis Nábřežní'!G33+'1-podrobný rozpis B.Němcové'!G33+'1 podrobný rozpis ŠJ'!G33) -> 0
A34: 22. | C34: Výnosy z pronájmu (603) | E34: =SUM(' 1- podrobný rozpis Průchodní'!E34+'1-podrobný rozpis Nábřežní'!E34+'1-podrobný rozpis B.Němcové'!E34+'1 podrobný rozpis ŠJ'!E34) -> 347 | F34: =SUM(' 1- podrobný rozpis Průchodní'!F34+'1-podrobný rozpis Nábřežní'!F34+'1-podrobný rozpis B.Němcové'!F34+'1 podrobný rozpis ŠJ'!F34) -> 357 | G34: =SUM(' 1- podrobný rozpis Průchodní'!G34+'1-podrobný rozpis Nábřežní'!G34+'1-podrobný rozpis B.Němcové'!G34+'1 podrobný rozpis ŠJ'!G34) -> 357
A35: 23. | C35: Použití fondů (648) | E35: =SUM(' 1- podrobný rozpis Průchodní'!E35+'1-podrobný rozpis Nábřežní'!E35+'1-podrobný rozpis B.Němcové'!E35+'1 podrobný rozpis ŠJ'!E35) -> 0 | F35: =SUM(' 1- podrobný rozpis Průchodní'!F35+'1-podrobný rozpis Nábřežní'!F35+'1-podrobný rozpis B.Němcové'!F35+'1 podrobný rozpis ŠJ'!F35) -> 370 | G35: =SUM(' 1- podrobný rozpis Průchodní'!G35+'1-podrobný rozpis Nábřežní'!G35+'1-podrobný rozpis B.Němcové'!G35+'1 podrobný rozpis ŠJ'!G35) -> 370
A36: 24. | C36: Ostatní výnosy z činnosti (649) | E36: =SUM(' 1- podrobný rozpis Průchodní'!E36+'1-podrobný rozpis Nábřežní'!E36+'1-podrobný rozpis B.Němcové'!E36+'1 podrobný rozpis ŠJ'!E36) -> 0 | F36: =SUM(' 1- podrobný rozpis Průchodní'!F36+'1-podrobný rozpis Nábřežní'!F36+'1-podrobný rozpis B.Němcové'!F36+'1 podrobný rozpis ŠJ'!F36) -> 0 | G36: =SUM(' 1- podrobný rozpis Průchodní'!G36+'1-podrobný rozpis Nábřežní'!G36+'1-podrobný rozpis B.Němcové'!G36+'1 podrobný rozpis ŠJ'!G36) -> 0
A37: 25. | C37: Úroky (662) | E37: =SUM(' 1- podrobný rozpis Průchodní'!E37+'1-podrobný rozpis Nábřežní'!E37+'1-podrobný rozpis B.Němcové'!E37+'1 podrobný rozpis ŠJ'!E37) -> 90 | F37: =SUM(' 1- podrobný rozpis Průchodní'!F37+'1-podrobný rozpis Nábřežní'!F37+'1-podrobný rozpis B.Němcové'!F37+'1 podrobný rozpis ŠJ'!F37) -> 20 | G37: =SUM(' 1- podrobný rozpis Průchodní'!G37+'1-podrobný rozpis Nábřežní'!G37+'1-podrobný rozpis B.Němcové'!G37+'1 podrobný rozpis ŠJ'!G37) -> 20
A38: 26. | C38: Tržby z prodeje dlouhod. hmot. a nehm.majetku (651) | E38: =SUM(' 1- podrobný rozpis Průchodní'!E38+'1-podrobný rozpis Nábřežní'!E38+'1-podrobný rozpis B.Němcové'!E38+'1 podrobný rozpis ŠJ'!E38) -> 0 | F38: =SUM(' 1- podrobný rozpis Průchodní'!F38+'1-podrobný rozpis Nábřežní'!F38+'1-podrobný rozpis B.Němcové'!F38+'1 podrobný rozpis ŠJ'!F38) -> 0 | G38: =SUM(' 1- podrobný rozpis Průchodní'!G38+'1-podrobný rozpis Nábřežní'!G38+'1-podrobný rozpis B.Němcové'!G38+'1 podrobný rozpis ŠJ'!G38) -> 0
A39: 27. | C39: Výnosy z transferů (672) | E39: =SUM(E40:E49) -> 77921 | F39: =SUM(F40:F49) -> 84540 | G39: =SUM(G40:G49) -> 87652
A40: 28. | C40: z toho : | D40: příspěvek na provoz | E40: =SUM(' 1- podrobný rozpis Průchodní'!E40+'1-podrobný rozpis Nábřežní'!E40+'1-podrobný rozpis B.Němcové'!E40+'1 podrobný rozpis ŠJ'!E40) -> 10153 | F40: =SUM(' 1- podrobný rozpis Průchodní'!F40+'1-podrobný rozpis Nábřežní'!F40+'1-podrobný rozpis B.Němcové'!F40+'1 podrobný rozpis ŠJ'!F40) -> 10338 | G40: =SUM(' 1- podrobný rozpis Průchodní'!G40+'1-podrobný rozpis Nábřežní'!G40+'1-podrobný rozpis B.Němcové'!G40+'1 podrobný rozpis ŠJ'!G40) -> 9890
D41: pracoviště Kalvodova | E41: 0 | F41: 600 | G41: 600
A42: 29. | D42: příspěvek na provoz - odpisy | E42: =SUM(' 1- podrobný rozpis Průchodní'!E41+'1-podrobný rozpis Nábřežní'!E42+'1-podrobný rozpis B.Němcové'!E41+'1 podrobný rozpis ŠJ'!E41) -> 2165 | F42: =SUM(' 1- podrobný rozpis Průchodní'!F41+'1-podrobný rozpis Nábřežní'!F42+'1-podrobný rozpis B.Němcové'!F41+'1 podrobný rozpis ŠJ'!F41) -> 1965 | G42: =SUM(' 1- podrobný rozpis Průchodní'!G41+'1-podrobný rozpis Nábřežní'!G42+'1-podrobný rozpis B.Němcové'!G41+'1 podrobný rozpis ŠJ'!G41) -> 1965
A43: 30. | D43: příspěvek na opravy a vybavení | E43: =SUM(' 1- podrobný rozpis Průchodní'!E42+'1-podrobný rozpis Nábřežní'!E43+'1-podrobný rozpis B.Němcové'!E42+'1 podrobný rozpis ŠJ'!E42) -> 1870 | F43: =SUM(' 1- podrobný rozpis Průchodní'!F42+'1-podrobný rozpis Nábřežní'!F43+'1-podrobný rozpis B.Němcové'!F42+'1 podrobný rozpis ŠJ'!F42) -> 1990 | G43: =SUM(' 1- podrobný rozpis Průchodní'!G42+'1-podrobný rozpis Nábřežní'!G43+'1-podrobný rozpis B.Němcové'!G42+'1 podrobný rozpis ŠJ'!G42) -> 1850
...

Sheet  1- podrobný rozpis Průchodní
A1: Základní škola Jeseník, příspěvková rganizace
A2: iČ: 70599921
A4: Pracoviště: Průchodní
A5: Návrh rozpočtu 2025
A8: Ukazatel | E8: 2024 | F8: 2025
E9: schválený | F9: výhled | G9: návrh
E10: / v tis. Kč /
A11: 1. | B11: Náklady PO - účtová tř. 5 celkem | E11: =E13+E14+E15+E16+E17+E18+E21+E22+E23+E24+E25+E26+E27+E28 -> 19342 | F11: =F13+F14+F15+F16+F17+F18+F21+F22+F23+F24+F25+F26+F27+F28 -> 20485 | G11: =G13+G14+G15+G16+G17+G18+G21+G22+G23+G24+G25+G26+G27+G28 -> 20288
A12: z toho :
A13: 2. | C13: Spotřeba materiálu ( 501) | E13: 400 | F13: 490 | G13: 522
A14: 3. | C14: Spotřeba energie (502) | E14: 1431 | F14: 1400 | G14: 1220
A15: 4. | C15: Opravy a udržování (511) | E15: 525 | F15: 490 | G15: 490
A16: 5. | C16: Cestovné (512) | E16: 12 | F16: 20 | G16: 20
A17: 6. | C17: Ostatní služby (518) | E17: 300 | F17: 598 | G17: 605
A18: 7. | C18: Mzdové náklady (číslo účtu 521) | E18: =SUM(E19:E20) -> 11821 | F18: =SUM(F19:F20) -> 12212 | G18: =SUM(G19:G20) -> 12212
A19: 8. | C19: z toho : | D19: platy zaměstnanců | E19: 11759 | F19: 12112 | G19: 12112
A20: 9. | D20: OON | E20: 62 | F20: 100 | G20: 100
A21: 10. | C21: Zákonné sociální pojištění (524) | E21: 3740 | F21: 3853 | G21: 3853
A22: 11. | C22: Ostatní sociální pojištění (525) | E22: 35 | F22: 36 | G22: 36
A23: 12. | C23: Zákonné sociální náklady (527) | E23: 238 | F23: 245 | G23: 245
A24: 13. | C24: Daně a poplatky (531,532 a 538) | E24: 0 | F24: 0
A25: 14. | C25: Manka a škody (číslo účtu 548) | E25: 0 | F25: 0
A26: 15. | C26: Ostatní náklady (549) | E26: 30 | F26: 30
A27: 16. | C27: Odpisy dlouh. nehmot. a hmot. majetku ( 551) | E27: 715 | F27: 715 | G27: 715
A28: 17. | C28: Pořízení drobného dlouhodobého majetku (558) | E28: 95 | F28: 396 | G28: 370
A29: 18. | B29: Výnosy z činnosti PO - účtová tř. 6 celkem | E29: =SUM(E31+E34+E36+E35+E37+E38+E39) -> 19342 | F29: =SUM(F31+F34+F36+F35+F37+F38+F39) -> 20485 | G29: =SUM(G31+G34+G36+G35+G37+G38+G39) -> 20288
A30: z toho :
A31: 19. | C31: Tržby z prodeje služeb (číslo účtu 602) | E31: =SUM(E32:E33) -> 140 | F31: =SUM(F32:F33) -> 176 | G31: =SUM(G32:G33) -> 176
A32: 20. | C32: z toho: úplata ŠD | E32: 140 | F32: 176 | G32: 176
A33: 21. | D33: stravování | E33: 0 | F33: 0 | G33: 0
A34: 22. | C34: Výnosy z pronájmu (603) | E34: 47 | F34: 51 | G34: 51
A35: 23. | C35: Použití fondů (648) | E35: 0 | F35: 0 | G35: 0
A36: 24. | C36: Ostatní výnosy z činnosti (649) | E36: 0 | F36: 0 | G36: 0
A37: 25. | C37: Úroky (662) | E37: 0 | F37: 0 | G37: 0
A38: 26. | C38: Tržby z prodeje dlouhod. hmot. a nehm.majetku (651) | E38: 0 | F38: 0 | G38: 0
A39: 27. | C39: Výnosy z transferů (672) | E39: =SUM(E40:E47) -> 19155 | F39: =SUM(F40:F47) -> 20258 | G39: =SUM(G40:G47) -> 20061
A40: 28. | C40: z toho : | D40: příspěvek na provoz | E40: 2211 | F40: 2277 | G40: 2100
A41: 29. | D41: příspěvek na provoz - odpisy | E41: 715 | F41: 715 | G41: 715
A42: 30. | D42: příspěvek na opravy a vybavení | E42: 610 | F42: 710 | G42: 690
A43: 31. | D43: příspěvek na sportovní třídy | E43: 0 | F43: 0 | G43: 0
...

Sheet 1-podrobný rozpis Nábřežní
A1: Základní škola Jeseník, příspěvková rganizace
A2: IČ: 70599921
A4: Pracoviště: Nábřežní
A5: Návrh rozpočtu 2025
A8: Ukazatel | E8: 2024 | F8: 2025
E9: schválený | F9: výhled | G9: návrh
E10: / v tis. Kč /
A11: 1. | B11: Náklady PO - účtová tř. 5 celkem | E11: =E13+E14+E15+E16+E17+E18+E21+E22+E23+E24+E25+E26+E27+E28 -> 34382 | F11: =F13+F14+F15+F16+F17+F18+F21+F22+F23+F24+F25+F26+F27+F28 -> 39950 | G11: =G13+G14+G15+G16+G17+G18+G21+G22+G23+G24+G25+G26+G27+G28 -> 43310
A12: z toho :
A13: 2. | C13: Spotřeba materiálu ( 501) | E13: 1100 | F13: 1137 | G13: 1100
A14: 3. | C14: Spotřeba energie (502) | E14: 3017 | F14: 3400 | G14: 4000 | H14: zvýšení výdajů na vytápění modulární školy
A15: 4. | C15: Opravy a udržování (511) | E15: 600 | F15: 400 | G15: 400
A16: 5. | C16: Cestovné (512) | E16: 100 | F16: 190 | G16: 190
A17: 6. | C17: Ostatní služby (518) | E17: 1150 | F17: 1500 | G17: 4000 | H17: roční pronájem modulární školy 2300 | I17: NUTNÉ NAVÝŠENÍ ROZPOČTU
A18: 7. | C18: Mzdové náklady (číslo účtu 521) | E18: =SUM(E19:E20) -> 19895 | F18: =SUM(F19:F20) -> 23955 | G18: =SUM(G19:G20) -> 23955
A19: 8. | C19: z toho : | D19: platy zaměstnanců | E19: 19700 | F19: 23642 | G19: 23642
A20: 9. | D20: OON | E20: 195 | F20: 313 | G20: 313
A21: 10. | C21: Zákonné sociální pojištění (524) | E21: 6726 | F21: 7590 | G21: 7590
A22: 11. | C22: Ostatní sociální pojištění (525) | E22: 82 | F22: 81 | G22: 81
A23: 12. | C23: Zákonné sociální náklady (527) | E23: 572 | F23: 685 | G23: 682
A24: 13. | C24: Daně a poplatky (531,532 a 538) | E24: 0 | F24: 0 | G24: 0
A25: 14. | C25: Reprefond (513) | E25: 4 | F25: 4 | G25: 4
A26: 15. | C26: Ostatní náklady (549) | E26: 80 | F26: 152 | G26: 152
A27: 16. | C27: Odpisy dlouh. nehmot. a hmot. majetku ( 551) | E27: 656 | F27: 656 | G27: 656
A28: 17. | C28: Pořízení drobného dlouhodobého majetku (558) | E28: 400 | F28: 200 | G28: 500 | H28: NUTNÉ NAVÝŠENÍ ROZPOČTU - částečné pořízení zničeného najetku (povodeň)
A29: 18. | B29: Výnosy z činnosti PO - účtová tř. 6 celkem | E29: =SUM(E31+E34+E36+E35+E37+E38+E39) -> 34382 | F29: =SUM(F31+F34+F36+F35+F37+F38+F39) -> 39950 | G29: =SUM(G31+G34+G36+G35+G37+G38+G39) -> 43310
A30: z toho :
A31: 19. | C31: Tržby z prodeje služeb (číslo účtu 602) | E31: =SUM(E32:E33) -> 0 | F31: =SUM(F32:F33) -> 0 | G31: =SUM(G32:G33) -> 0
A32: 20. | C32: z toho: úplata | E32: 0 | F32: 0
A33: 21. | D33: stravování | E33: 0 | F33: 0
A34: 22. | C34: Výnosy z pronájmu (603) | E34: 200 | F34: 206 | G34: 206
A35: 23. | C35: Použití fondů (648) | E35: 0 | F35: 370 | G35: 370 | H35: obědy W+W
A36: 24. | C36: Ostatní výnosy z činnosti (649) | E36: 0 | F36: 0
A37: 25. | C37: Úroky (662) | E37: 90 | F37: 20 | G37: 20
A38: 26. | C38: Tržby z prodeje dlouhod. hmot. a nehm.majetku (651) | E38: 0 | F38: 0
A39: 27. | C39: Výnosy z transferů (672) | E39: =SUM(E40:E49) -> 34092 | F39: =SUM(F40:F49) -> 39354 | G39: =SUM(G40:G49) -> 42714
A40: 28. | C40: z toho : | D40: příspěvek na provoz | E40: 4156 | F40: 4280 | G40: 4140 | H40: =SUM(G40:G45) -> 9846
D41: pracoviště Kalvodova | E41: 0 | F41: 600 | G41: 600
A42: 29. | D42: příspěvek na provoz - odpisy | E42: 856 | F42: 656 | G42: 656
A43: 30. | D43: příspěvek na opravy a vybavení | E43: 600 | F43: 600 | G43: 500
...

Sheet 1-podrobný rozpis B.Němcové
A1: Základní škola Jeseník, příspěvková rganizace
A2: IČ: 70599921
A4: Pracoviště: B. Němcové
A5: Návrh rozpočtu 2025
A8: Ukazatel | E8: 2024 | F8: 2025
E9: schválený | F9: výhled | G9: návrh
E10: / v tis. Kč /
A11: 1. | B11: Náklady PO - účtová tř. 5 celkem | E11: =E13+E14+E15+E16+E17+E18+E21+E22+E23+E24+E25+E26+E27+E28 -> 22360 | F11: =F13+F14+F15+F16+F17+F18+F21+F22+F23+F24+F25+F26+F27+F28 -> 22610 | G11: =G13+G14+G15+G16+G17+G18+G21+G22+G23+G24+G25+G26+G27+G28 -> 22559
A12: z toho :
A13: 2. | C13: Spotřeba materiálu ( 501) | E13: 450 | F13: 436 | G13: 436
A14: 3. | C14: Spotřeba energie (502) | E14: 1373 | F14: 1230 | G14: 1104 | H14: KLIMA!!!! Bude vyšší spotřeba - pokud nebude fotovoltaika viz investice
A15: 4. | C15: Opravy a udržování (511) | E15: 525 | F15: 620 | G15: 620
A16: 5. | C16: Cestovné (512) | E16: 20 | F16: 20 | G16: 20
A17: 6. | C17: Ostatní služby (518) | E17: 352 | F17: 625 | G17: 600
A18: 7. | C18: Mzdové náklady (číslo účtu 521) | E18: =SUM(E19:E20) -> 13983 | F18: =SUM(F19:F20) -> 13983 | G18: =SUM(G19:G20) -> 13983
A19: 8. | C19: z toho : | D19: platy zaměstnanců | E19: 13928 | F19: 13928 | G19: 13928
A20: 9. | D20: OON | E20: 55 | F20: 55 | G20: 55
A21: 10. | C21: Zákonné sociální pojištění (524) | E21: 4556 | F21: 4556 | G21: 4556
A22: 11. | C22: Ostatní sociální pojištění (525) | E22: 58 | F22: 58 | G22: 58
A23: 12. | C23: Zákonné sociální náklady (527) | E23: 338 | F23: 338 | G23: 338
A24: 13. | C24: Daně a poplatky (531,532 a 538) | E24: 0 | F24: 0
A25: 14. | C25: Manka a škody (číslo účtu 548) | E25: 0 | F25: 0
A26: 15. | C26: Ostatní náklady (549) | E26: 10 | F26: 0
A27: 16. | C27: Odpisy dlouh. nehmot. a hmot. majetku ( 551) | E27: 595 | F27: 594 | G27: 594
A28: 17. | C28: Pořízení drobného dlouhodobého majetku (558) | E28: 100 | F28: 150 | G28: 250
A29: 18. | B29: Výnosy z činnosti PO - účtová tř. 6 celkem | E29: =SUM(E31+E34+E36+E35+E37+E38+E39) -> 22360 | F29: =SUM(F31+F34+F36+F35+F37+F38+F39) -> 22610 | G29: =SUM(G31+G34+G36+G35+G37+G38+G39) -> 22559
A30: z toho :
A31: 19. | C31: Tržby z prodeje služeb (číslo účtu 602) | E31: =SUM(E32:E33) -> 180 | F31: =SUM(F32:F33) -> 180 | G31: =SUM(G32:G33) -> 180
A32: 20. | C32: z toho: úplata ŠD | E32: 180 | F32: 180 | G32: 180
A33: 21. | D33: stravování | E33: 0 | F33: 0
A34: 22. | C34: Výnosy z pronájmu (603) | E34: 100 | F34: 100 | G34: 100
A35: 23. | C35: Použití fondů (648) | E35: 0 | F35: 0
A36: 24. | C36: Ostatní výnosy z činnosti (649) | E36: 0 | F36: 0
A37: 25. | C37: Úroky (662) | E37: 0 | F37: 0
A38: 26. | C38: Tržby z prodeje dlouhod. hmot. a nehm.majetku (651) | E38: 0 | F38: 0
A39: 27. | C39: Výnosy z transferů (672) | E39: =SUM(E40:E46) -> 22080 | F39: =SUM(F40:F46) -> 22330 | G39: =SUM(G40:G46) -> 22279
A40: 28. | C40: z toho : | D40: příspěvek na provoz | E40: 2186 | F40: 2181 | G40: 2050
A41: 29. | D41: příspěvek na provoz - odpisy | E41: 594 | F41: 594 | G41: 594
A42: 30. | D42: příspěvek na opravy a vybavení | E42: 600 | F42: 620 | G42: 600
A43: 31. | D43: příspěvek na sportovní třídy | E43: 0 | F43: 0
...

Sheet 1 podrobný rozpis ŠJ
A1: Základní škola Jeseník, příspěvková rganizace
A2: IČ: 70599921
A4: Pracoviště: Školní jídelna - výdejny
A5: Návrh rozpočtu 2025
A8: Ukazatel | E8: 2024 | F8: 2025
E9: schválený | F9: výhled | G9: návrh
E10: / v tis. Kč /
A11: 1. | B11: Náklady PO - účtová tř. 5 celkem | E11: =E13+E14+E15+E16+E17+E18+E21+E22+E23+E24+E25+E26+E27+E28 -> 2594 | F11: =F13+F14+F15+F16+F17+F18+F21+F22+F23+F24+F25+F26+F27+F28 -> 2598 | G11: =G13+G14+G15+G16+G17+G18+G21+G22+G23+G24+G25+G26+G27+G28 -> 2598
A12: z toho :
A13: 2. | C13: Spotřeba materiálu ( 501) | E13: 90 | F13: 100 | G13: 100
A14: 3. | C14: Spotřeba energie (502) | E14: 0 | F14: 0
A15: 4. | C15: Opravy a udržování (511) | E15: 63 | F15: 60 | G15: 60
A16: 5. | C16: Cestovné (512) | E16: 1 | F16: 1 | G16: 1
A17: 6. | C17: Ostatní služby (518) | E17: 1502 | F17: 1510 | G17: 1510
A18: 7. | C18: Mzdové náklady (číslo účtu 521) | E18: =SUM(E19:E20) -> 680 | F18: =SUM(F19:F20) -> 689 | G18: =SUM(G19:G20) -> 689
A19: 8. | C19: z toho : | D19: platy zaměstnanců | E19: 665 | F19: 670 | G19: 670
A20: 9. | D20: OON | E20: 15 | F20: 19 | G20: 19
A21: 10. | C21: Zákonné sociální pojištění (524) | E21: 243 | F21: 226 | G21: 226
A22: 11. | C22: Ostatní sociální pojištění (525) | E22: 3 | F22: 2 | G22: 2
A23: 12. | C23: Zákonné sociální náklady (527) | E23: 12 | F23: 10 | G23: 10
A24: 13. | C24: Daně a poplatky (531,532 a 538) | E24: 0 | F24: 0
A25: 14. | C25: Manka a škody (číslo účtu 548) | E25: 0 | F25: 0
A26: 15. | C26: Ostatní náklady (549) | E26: 0 | F26: 0
A27: 16. | C27: Odpisy dlouh. nehmot. a hmot. majetku ( 551) | E27: 0 | F27: 0
A28: 17. | C28: Pořízení drobného dlouhodobého majetku (558) | E28: 0 | F28: 0
A29: 18. | B29: Výnosy z činnosti PO - účtová tř. 6 celkem | E29: =SUM(E31+E34+E36+E35+E37+E38+E39) -> 2594 | F29: =SUM(F31+F34+F36+F35+F37+F38+F39) -> 2598 | G29: =SUM(G31+G34+G36+G35+G37+G38+G39) -> 2598
A30: z toho :
A31: 19. | C31: Tržby z prodeje služeb (číslo účtu 602) | E31: =SUM(E32:E33) -> 0 | F31: =SUM(F32:F33) -> 0 | G31: =SUM(G32:G33) -> 0
A32: 20. | C32: z toho: úplata | E32: 0 | F32: 0
A33: 21. | D33: stravování | E33: 0 | F33: 0
A34: 22. | C34: Výnosy z pronájmu (603) | E34: 0 | F34: 0
A35: 23. | C35: Použití fondů (648) | E35: 0 | F35: 0
A36: 24. | C36: Ostatní výnosy z činnosti (649) | E36: 0 | F36: 0
A37: 25. | C37: Úroky (662) | E37: 0 | F37: 0
A38: 26. | C38: Tržby z prodeje dlouhod. hmot. a nehm.majetku (651) | E38: 0 | F38: 0
A39: 27. | C39: Výnosy z transferů (672) | E39: =SUM(E40:E46) -> 2594 | F39: =SUM(F40:F46) -> 2598 | G39: =SUM(G40:G46) -> 2598
A40: 28. | C40: z toho : | D40: příspěvek na provoz | E40: 1600 | F40: 1600 | G40: 1600
A41: 29. | D41: příspěvek na provoz - odpisy | E41: 0 | F41: 0
A42: 30. | D42: příspěvek na opravy a vybavení | E42: 60 | F42: 60 | G42: 60
A43: 32. | D43: příspěvek na sportovní třídy | E43: 0 | F43: 0
...

Sheet 2_souhrn PR
A1: Rrozpočet příspěvkové organizace - návrh
A3: IČO: 70599921 | C3: Základní škola Jeseník, příspěvková organizace
A5: Pracoviště: | B5: Průchodní | F5: v tis. Kč
D6: rozpočet schválený | E6: výhled rozpočtu | F6: návrh rozpočtu
A7: Výnosy | D7: 2024 | E7: 2025 | F7: 2025
A8: Příspěvek od zřizovatele | D8: =SUM(D9:D11) -> 3536 | E8: =SUM(E9:E11) -> 3702 | F8: =SUM(F9:F11) -> 3505
A9: z toho: | B9: provoz | D9: =SUM(' 1- podrobný rozpis Průchodní'!E40) -> 2211 | E9: =SUM(' 1- podrobný rozpis Průchodní'!F40) -> 2277 | F9: =SUM(' 1- podrobný rozpis Průchodní'!G40) -> 2100
B10: odpisy | D10: =SUM(' 1- podrobný rozpis Průchodní'!E41) -> 715 | E10: =SUM(' 1- podrobný rozpis Průchodní'!F41) -> 715 | F10: =SUM(' 1- podrobný rozpis Průchodní'!G41) -> 715
B11: opravy a vybavení | D11: =SUM(' 1- podrobný rozpis Průchodní'!E42) -> 610 | E11: =SUM(' 1- podrobný rozpis Průchodní'!F42) -> 710 | F11: =SUM(' 1- podrobný rozpis Průchodní'!G42) -> 690
B12: sport | D12: =SUM(' 1- podrobný rozpis Průchodní'!E43) -> 0
A13: Příspěvek ze SR | D13: =SUM(' 1- podrobný rozpis Průchodní'!E44+' 1- podrobný rozpis Průchodní'!E45) -> 15619 | E13: =SUM(' 1- podrobný rozpis Průchodní'!F44+' 1- podrobný rozpis Průchodní'!F45) -> 16556 | F13: =SUM(' 1- podrobný rozpis Průchodní'!G44+' 1- podrobný rozpis Průchodní'!G45) -> 16556
A14: Ostatní příjmy z dotačních titulů | D14: =SUM(' 1- podrobný rozpis Průchodní'!E46+' 1- podrobný rozpis Průchodní'!E47) -> 0 | E14: =SUM(' 1- podrobný rozpis Průchodní'!F46+' 1- podrobný rozpis Průchodní'!F47) -> 0 | F14: =SUM(' 1- podrobný rozpis Průchodní'!G46+' 1- podrobný rozpis Průchodní'!G47) -> 0
A15: Vlastní příjmy | D15: =SUM(' 1- podrobný rozpis Průchodní'!E31+' 1- podrobný rozpis Průchodní'!E34+' 1- podrobný rozpis Průchodní'!E36+' 1- podrobný rozpis Průchodní'!E37+' 1- podrobný rozpis Průchodní'!E38) -> 187 | E15: =SUM(' 1- podrobný rozpis Průchodní'!F31+' 1- podrobný rozpis Průchodní'!F34+' 1- podrobný rozpis Průchodní'!F36+' 1- podrobný rozpis Průchodní'!F37+' 1- podrobný rozpis Průchodní'!F38) -> 227 | F15: =SUM(' 1- podrobný rozpis Průchodní'!G31+' 1- podrobný rozpis Průchodní'!G34+' 1- podrobný rozpis Průchodní'!G36+' 1- podrobný rozpis Průchodní'!G37+' 1- podrobný rozpis Průchodní'!G38) -> 227
A16: celkem | D16: =SUM(D8+D13+D14+D15) -> 19342 | E16: =SUM(E8+E13+E14+E15) -> 20485 | F16: =SUM(F8+F13+F14+F15) -> 20288
A18: Náklady | D18: 2024 | E18: 2025 | F18: 2025
A19: provozní (HČ+DČ) | D19: =SUM(' 1- podrobný rozpis Průchodní'!E11) -> 19342 | E19: =SUM(' 1- podrobný rozpis Průchodní'!F11) -> 20485 | F19: =SUM(' 1- podrobný rozpis Průchodní'!G11) -> 20288
A20: z toho: | B20: osobní | D20: =' 1- podrobný rozpis Průchodní'!E18+' 1- podrobný rozpis Průchodní'!E21+' 1- podrobný rozpis Průchodní'!E23 -> 15799 | E20: =' 1- podrobný rozpis Průchodní'!F18+' 1- podrobný rozpis Průchodní'!F21+' 1- podrobný rozpis Průchodní'!F23 -> 16310 | F20: =' 1- podrobný rozpis Průchodní'!G18+' 1- podrobný rozpis Průchodní'!G21+' 1- podrobný rozpis Průchodní'!G23 -> 16310
A21: celkem | D21: =SUM(D19) -> 19342 | E21: =SUM(E19) -> 20485 | F21: =SUM(F19) -> 20288
A23: V Jeseníku dne: | C23: 45575
A25: Vypracovala: Ing. Markéta Mikulová
A27: Schválil: Mgr. Dominik Liberda
A29: Vyvěšeno dne:
A31: Sejmuto dne:

Sheet 2_souhrn NB
A1: Rrozpočet příspěvkové organizace - návrh
A3: IČO: 70599921 | C3: Základní škola Jeseník, příspěvková organizace
A5: Pracoviště: | B5: Nábřežní | F5: v tis. Kč
D6: rozpočet schválený | E6: výhled rozpočtu | F6: návrh rozpočtu
A7: Výnosy | D7: 2024 | E7: 2025 | F7: 2025
A8: Příspěvek od zřizovatele | D8: =SUM(D9:D12) -> 5962 | E8: =SUM(E9:E12) -> 5886 | F8: =SUM(F9:F12) -> 5646
A9: z toho: | B9: provoz | D9: =SUM('1-podrobný rozpis Nábřežní'!E40) -> 4156 | E9: =SUM('1-podrobný rozpis Nábřežní'!F40) -> 4280 | F9: =SUM('1-podrobný rozpis Nábřežní'!G40) -> 4140
B10: odpisy | D10: =SUM('1-podrobný rozpis Nábřežní'!E42) -> 856 | E10: =SUM('1-podrobný rozpis Nábřežní'!F42) -> 656 | F10: =SUM('1-podrobný rozpis Nábřežní'!G42) -> 656
B11: opravy a vybavení | D11: =SUM('1-podrobný rozpis Nábřežní'!E43) -> 600 | E11: =SUM('1-podrobný rozpis Nábřežní'!F43) -> 600 | F11: =SUM('1-podrobný rozpis Nábřežní'!G43) -> 500
B12: sport | D12: =SUM('1-podrobný rozpis Nábřežní'!E45) -> 350 | E12: ='1-podrobný rozpis Nábřežní'!F45 -> 350 | F12: ='1-podrobný rozpis Nábřežní'!G45 -> 350
A13: Příspěvek ze SR | D13: =SUM('1-podrobný rozpis Nábřežní'!E46) -> 28130 | E13: =SUM('1-podrobný rozpis Nábřežní'!F46) -> 31150 | F13: =SUM('1-podrobný rozpis Nábřežní'!G46) -> 31150
A14: Ostatní příjmy z dotačních titulů | D14: ='1-podrobný rozpis Nábřežní'!E48 -> 0 | E14: ='1-podrobný rozpis Nábřežní'!F48 -> 1718 | F14: =SUM('1-podrobný rozpis Nábřežní'!G37) -> 20
A15: Vlastní příjmy | D15: ='1-podrobný rozpis Nábřežní'!E31+'1-podrobný rozpis Nábřežní'!E34+'1-podrobný rozpis Nábřežní'!E35+'1-podrobný rozpis Nábřežní'!E36+'1-podrobný rozpis Nábřežní'!E37+'1-podrobný rozpis Nábřežní'!E38 -> 290 | E15: ='1-podrobný rozpis Nábřežní'!F31+'1-podrobný rozpis Nábřežní'!F34+'1-podrobný rozpis Nábřežní'!F35+'1-podrobný rozpis Nábřežní'!F36+'1-podrobný rozpis Nábřežní'!F37 -> 596 | F15: =SUM('1-podrobný rozpis Nábřežní'!G34+'1-podrobný rozpis Nábřežní'!G36) -> 206
A16: celkem | D16: =SUM(D8+D13+D14+D15) -> 34382 | E16: =SUM(E8+E13+E14+E15) -> 39350 | F16: =SUM(F8+F13+F14+F15) -> 37022
A18: Náklady | D18: 2024 | E18: 2025 | F18: 2025
A19: provozní (HČ+DČ) | D19: =SUM('1-podrobný rozpis Nábřežní'!E11) -> 34382 | E19: =SUM('1-podrobný rozpis Nábřežní'!F11) -> 39950 | F19: =SUM('1-podrobný rozpis Nábřežní'!G11) -> 43310
A20: z toho: | B20: osobní | D20: =SUM('1-podrobný rozpis Nábřežní'!E18+'1-podrobný rozpis Nábřežní'!E21+'1-podrobný rozpis Nábřežní'!E23-170) -> 27023 | E20: =SUM('1-podrobný rozpis Nábřežní'!F18+'1-podrobný rozpis Nábřežní'!F21+'1-podrobný rozpis Nábřežní'!F23) -> 32230 | F20: =SUM('1-podrobný rozpis Nábřežní'!G18+'1-podrobný rozpis Nábřežní'!G21+'1-podrobný rozpis Nábřežní'!G23) -> 32227
A21: celkem | D21: =SUM(D19) -> 34382 | E21: =SUM(E19) -> 39950 | F21: =SUM(F19) -> 43310
A23: V Jeseníku dne: | C23: 45575
A25: Vypracovala: Ing. Markéta Mikulová
A27: Schválil: Mgr. Dominik Liberda
A29: Vyvěšeno dne:
A31: Sejmuto dne:

Sheet 2_souhrn BN
A1: Rrozpočet příspěvkové organizace - návrh
A3: IČO: 70599921 | C3: Základní škola Jeseník, příspěvková organizace
A5: Pracoviště: | B5: Boženy Němcové | F5: v tis. Kč
D6: rozpočet schválený | E6: výhled rozpočtu | F6: návrh rozpočtu
A7: Výnosy | D7: 2024 | E7: 2025 | F7: 2025
A8: Příspěvek od zřizovatele | D8: =SUM(D9:D11) -> 3380 | E8: =SUM(E9:E11) -> 3395 | F8: =SUM(F9:F11) -> 3244
A9: z toho: | B9: provoz | D9: =SUM('1-podrobný rozpis B.Němcové'!E40) -> 2186 | E9: =SUM('1-podrobný rozpis B.Němcové'!F40) -> 2181 | F9: =SUM('1-podrobný rozpis B.Němcové'!G40) -> 2050
B10: odpisy | D10: =SUM('1-podrobný rozpis B.Němcové'!E41) -> 594 | E10: =SUM('1-podrobný rozpis B.Němcové'!F41) -> 594 | F10: =SUM('1-podrobný rozpis B.Němcové'!G41) -> 594
B11: opravy a vybavení | D11: =SUM('1-podrobný rozpis B.Němcové'!E42) -> 600 | E11: =SUM('1-podrobný rozpis B.Němcové'!F42) -> 620 | F11: =SUM('1-podrobný rozpis B.Němcové'!G42) -> 600
B12: sportovní třídy | D12: =SUM('1-podrobný rozpis B.Němcové'!E43) -> 0
A13: Příspěvek ze SR | D13: ='1-podrobný rozpis B.Němcové'!E44 -> 18700 | E13: ='1-podrobný rozpis B.Němcové'!F44 -> 18935 | F13: ='1-podrobný rozpis B.Němcové'!G44 -> 18935
A14: Ostatní příjmy z dotačních titulů | D14: =SUM(' 1- podrobný rozpis Průchodní'!E46+' 1- podrobný rozpis Průchodní'!E47) -> 0 | E14: =SUM(' 1- podrobný rozpis Průchodní'!F46+' 1- podrobný rozpis Průchodní'!F47) -> 0 | F14: =SUM(' 1- podrobný rozpis Průchodní'!G46+' 1- podrobný rozpis Průchodní'!G47) -> 0
A15: Vlastní příjmy | D15: =SUM('1-podrobný rozpis B.Němcové'!E34+'1-podrobný rozpis B.Němcové'!E36) -> 100 | E15: =SUM('1-podrobný rozpis B.Němcové'!F31+'1-podrobný rozpis B.Němcové'!F36+'1-podrobný rozpis B.Němcové'!F34) -> 280 | F15: =SUM('1-podrobný rozpis B.Němcové'!G31+'1-podrobný rozpis B.Němcové'!G36+'1-podrobný rozpis B.Němcové'!G34) -> 280
A16: celkem | D16: =SUM(D8+D13+D14+D15) -> 22180 | E16: =SUM(E8+E13+E14+E15) -> 22610 | F16: =SUM(F8+F13+F14+F15) -> 22459
A18: Náklady | D18: 2024 | E18: 2025 | F18: 2025
A19: provozní (HČ+DČ) | D19: =SUM('1-podrobný rozpis B.Němcové'!E11) -> 22360 | E19: =SUM('1-podrobný rozpis B.Němcové'!F11) -> 22610 | F19: =SUM('1-podrobný rozpis B.Němcové'!G11) -> 22559
A20: z toho: | B20: osobní | D20: =SUM('1-podrobný rozpis B.Němcové'!E18+'1-podrobný rozpis B.Němcové'!E21+'1-podrobný rozpis B.Němcové'!E23-120) -> 18757 | E20: ='1-podrobný rozpis B.Němcové'!F18+'1-podrobný rozpis B.Němcové'!F21+'1-podrobný rozpis B.Němcové'!F22+'1-podrobný rozpis B.Němcové'!F23-157 -> 18778 | F20: ='1-podrobný rozpis B.Němcové'!G18+'1-podrobný rozpis B.Němcové'!G21+'1-podrobný rozpis B.Němcové'!G22+'1-podrobný rozpis B.Němcové'!G23 -> 18935
A21: celkem | D21: =SUM(D19) -> 22360 | E21: =SUM(E19) -> 22610 | F21: =SUM(F19) -> 22559
A23: V Jeseníku dne: | C23: 45575
A25: Vypracovala: Ing. Markéta Mikulová
A27: Schválil: Mgr. Dominik Liberda
A29: Vyvěšeno dne:
A31: Sejmuto dne:

Sheet 2_souhrn ŠJ
A1: Rrozpočet příspěvkové organizace - návrh
A3: IČO: 70599921 | C3: Základní škola Jeseník, příspěvková organizace
A5: Pracoviště: | B5: školní jídelna | F5: v tis. Kč
D6: rozpočet schválený | E6: výhled rozpočtu | F6: návrh rozpočtu
A7: Výnosy | D7: 2024 | E7: 2025 | F7: 2025
A8: Příspěvek od zřizovatele | D8: =SUM(D9:D11) -> 1660 | E8: =SUM(E9:E11) -> 1660 | F8: =SUM(F9:F11) -> 1660
A9: z toho: | B9: provoz | D9: =SUM('1 podrobný rozpis ŠJ'!E40) -> 1600 | E9: =SUM('1 podrobný rozpis ŠJ'!F40) -> 1600 | F9: =SUM('1 podrobný rozpis ŠJ'!G40) -> 1600
B10: odpisy | D10: =SUM('1 podrobný rozpis ŠJ'!E41) -> 0 | E10: =SUM('1 podrobný rozpis ŠJ'!F41) -> 0 | F10: =SUM('1 podrobný rozpis ŠJ'!G41) -> 0
B11: opravy a vybavení | D11: =SUM('1 podrobný rozpis ŠJ'!E42) -> 60 | E11: =SUM('1 podrobný rozpis ŠJ'!F42) -> 60 | F11: =SUM('1 podrobný rozpis ŠJ'!G42) -> 60
B12: sportovní třídy | D12: =SUM('1 podrobný rozpis ŠJ'!E43) -> 0
A13: Příspěvek ze SR | D13: =SUM('1 podrobný rozpis ŠJ'!E44) -> 934 | E13: =SUM('1 podrobný rozpis ŠJ'!F44) -> 938 | F13: =SUM('1 podrobný rozpis ŠJ'!G44) -> 938
A14: Ostatní příjmy z dotačních titulů | D14: =SUM(' 1- podrobný rozpis Průchodní'!E46+' 1- podrobný rozpis Průchodní'!E47) -> 0 | E14: =SUM(' 1- podrobný rozpis Průchodní'!F46+' 1- podrobný rozpis Průchodní'!F47) -> 0 | F14: =SUM(' 1- podrobný rozpis Průchodní'!G46+' 1- podrobný rozpis Průchodní'!G47) -> 0
A15: Vlastní příjmy
A16: celkem | D16: =SUM(D8+D13+D14+D15) -> 2594 | E16: =SUM(E8+E13+E14+E15) -> 2598 | F16: =SUM(F8+F13+F14+F15) -> 2598
A18: Náklady | D18: 2024 | E18: 2025 | F18: 2025
A19: provozní (HČ+DČ) | D19: =SUM('1 podrobný rozpis ŠJ'!E11) -> 2594 | E19: =SUM('1 podrobný rozpis ŠJ'!F11) -> 2598 | F19: =SUM('1 podrobný rozpis ŠJ'!G11) -> 2598
A20: z toho: | B20: osobní | D20: =SUM('1 podrobný rozpis ŠJ'!E18+'1 podrobný rozpis ŠJ'!E21+'1 podrobný rozpis ŠJ'!E23-1) -> 934 | E20: =SUM('1 podrobný rozpis ŠJ'!F18+'1 podrobný rozpis ŠJ'!F21+'1 podrobný rozpis ŠJ'!F23) -> 925 | F20: =SUM('1 podrobný rozpis ŠJ'!G18+'1 podrobný rozpis ŠJ'!G21+'1 podrobný rozpis ŠJ'!G23) -> 925
A21: celkem | D21: =SUM(D19) -> 2594 | E21: =SUM(E19) -> 2598 | F21: =SUM(F19) -> 2598
A23: V Jeseníku dne: | C23: 45575
A25: Vypracovala: Ing. Markéta Mikulová
A27: Schválil: Mgr. Dominik Liberda
A29: Vyvěšeno dne:
A31: Sejmuto dne:

Sheet 2_ souhrnZŠ
A1: Schválený rozpočet zřízené příspěvkové organizace na rok 2025
E2: čj: MJ/71815/2024
A3: Základní škola Jeseník, příspěvková organizace
A4: IČO: 70599921
A5: schválený Radou města Jeseník dne 9. 12. 2024, usnesením č. UR-980-28/24
A7: celkem | F7: v tis. Kč
D8: rozpočet schválený | E8: výhled rozpočtu | F8: návrh rozpočtu
A9: Výnosy | D9: 2024 | E9: 2025 | F9: 2025
A10: Příspěvek od zřizovatele | D10: =SUM(D11:D16) -> 14538 | E10: =SUM(E11:E16) -> 15243 | F10: =SUM(F11:F16) -> 18255
A11: z toho: | B11: provoz | D11: =SUM('2_souhrn PR'!D9+'2_souhrn NB'!D9+'2_souhrn BN'!D9+'2_souhrn ŠJ'!D9) -> 10153 | E11: =SUM('2_souhrn PR'!E9+'2_souhrn NB'!E9+'2_souhrn BN'!E9+'2_souhrn ŠJ'!E9) -> 10338 | F11: =SUM('2_souhrn PR'!F9+'2_souhrn NB'!F9+'2_souhrn BN'!F9+'2_souhrn ŠJ'!F9) -> 9890
B12: odpisy | D12: =SUM('2_souhrn PR'!D10+'2_souhrn NB'!D10+'2_souhrn BN'!D10+'2_souhrn ŠJ'!D10) -> 2165 | E12: =SUM('2_souhrn PR'!E10+'2_souhrn NB'!E10+'2_souhrn BN'!E10+'2_souhrn ŠJ'!E10) -> 1965 | F12: =SUM('2_souhrn PR'!F10+'2_souhrn NB'!F10+'2_souhrn BN'!F10+'2_souhrn ŠJ'!F10) -> 1965
B13: opravy a vybavení | D13: =SUM('2_souhrn PR'!D11+'2_souhrn NB'!D11+'2_souhrn BN'!D11+'2_souhrn ŠJ'!D11) -> 1870 | E13: =SUM('2_souhrn PR'!E11+'2_souhrn NB'!E11+'2_souhrn BN'!E11+'2_souhrn ŠJ'!E11) -> 1990 | F13: =SUM('2_souhrn PR'!F11+'2_souhrn NB'!F11+'2_souhrn BN'!F11+'2_souhrn ŠJ'!F11) -> 1850
B14: sportovní třídy | D14: 350 | E14: 350 | F14: 350
B15: pracoviště Kalvodova | D15: 0 | E15: 600 | F15: 600
B16: modu (nájem, energie) | D16: 0 | E16: 0 | F16: 3600
A17: Příspěvek ze SR | D17: =SUM('2_souhrn PR'!D13+'2_souhrn NB'!D13+'2_souhrn BN'!D13+'2_souhrn ŠJ'!D13) -> 63383 | E17: =SUM('2_souhrn PR'!E13+'2_souhrn NB'!E13+'2_souhrn BN'!E13+'2_souhrn ŠJ'!E13) -> 67579 | F17: =SUM('2_souhrn PR'!F13+'2_souhrn NB'!F13+'2_souhrn BN'!F13+'2_souhrn ŠJ'!F13) -> 67579
A18: Ostatní dotační tituly (EU, ÚP) | E18: 1718 | F18: 1818
A19: Úroky | D19: 90 | E19: 20 | F19: =SUM('2_souhrn PR'!F14+'2_souhrn NB'!F14+'2_souhrn BN'!F14+'2_souhrn ŠJ'!F14) -> 20
A20: Vlastní příjmy | D20: 667 | E20: 1083 | F20: 1083
A21: celkem | D21: =SUM(D10+D17+D18+D19+D20) -> 78678 | E21: =E10+E17+E18+E19+E20 -> 85643 | F21: =SUM(F10+F17+F18+F19+F20) -> 88755
A23: Náklady | D23: 2024 | E23: 2025 | F23: 2025
A24: provozní (HČ+DČ) | D24: =SUM('2_souhrn PR'!D19+'2_souhrn NB'!D19+'2_souhrn BN'!D19+'2_souhrn ŠJ'!D19) -> 78678 | E24: =SUM('2_souhrn PR'!E19+'2_souhrn NB'!E19+'2_souhrn BN'!E19+'2_souhrn ŠJ'!E19) -> 85643 | F24: =SUM('2_souhrn PR'!F19+'2_souhrn NB'!F19+'2_souhrn BN'!F19+'2_souhrn ŠJ'!F19) -> 88755
A25: z toho: | B25: osobní | D25: =SUM('2_souhrn PR'!D20+'2_souhrn NB'!D20+'2_souhrn BN'!D20+'2_souhrn ŠJ'!D20) -> 62513 | E25: =SUM('2_souhrn PR'!E20+'2_souhrn NB'!E20+'2_souhrn BN'!E20+'2_souhrn ŠJ'!E20) -> 68243 | F25: =SUM('2_souhrn PR'!F20+'2_souhrn NB'!F20+'2_souhrn BN'!F20+'2_souhrn ŠJ'!F20) -> 68397
A26: celkem | D26: =SUM(D24) -> 78678 | E26: =SUM(E24) -> 85643 | F26: =SUM(F24) -> 88755
A28: Vypracoval: Ing. Markéta Mikulová | D28: Schválil: Mgr. Dominik Liberda
A32: Vyvěšeno dne: 28.12.2024
A34: Sejmuto dne:

Sheet 3_investice PR
A1: Základní škola Jeseník, příspěvková rganizace
A2: IČ: 70599921
A4: Pracoviště: Průchodní
A6: Návrh rozpočtu 2025
A8: požadavek na investice
B10: 2025
A11: Návrh v tis. Kč | B11: požadavek
A12: 350 | B12: Výmena podlahové krytiny - hlavní budova 2.P
A13: 0
A14: 0
A15: 0
A16: 0
A17: 0
A18: 0
A19: 0
A20: =SUM(B20:B20) -> 0
A21: =SUM(B21:B21) -> 0
A22: =SUM(B22:B22) -> 0
A23: =SUM(A11:A22) -> 350 | B23: =SUM(B20:B22) -> 0
A25: V Jeseníku dne: | B25: 45575
A27: Vypracovala: Ing. Markéta Mikulová
A29: Schválil: Mgr. Dominik Liberda

Sheet 3_investice_NB
A1: Základní škola Jeseník, příspěvková rganizace
A2: IČ: 70599921
A4: Pracoviště: Nábřežní
A6: Návrh rozpočtu 2025
A8: požadavek na investice
B10: 2025
A11: Návrh v tis. Kč | B11: požadavek
A12: 15000 | B12: případná rekonstrukce spodního patra budovy
A13: 2720 | B13: roční pronájem modulární školy | C13: není investice, ale je nutné počítat s navýšením rozpočtu!
A14: 5000 | B14: oprava střechy vč. fotovoltaiky
A15: 500 | B15: klimatizace - třídy jižní strana školy
A16: 0
A17: 0
A18: 0
A19: 0
A20: =SUM(B20:B20) -> 0
A21: =SUM(B21:B21) -> 0
A22: =SUM(B22:B22) -> 0
A23: =SUM(A11:A22) -> 23220 | B23: =SUM(B20:B22) -> 0
A25: V Jeseníku dne: | B25: 45575
A27: Vypracovala: Ing. Markéta Mikulová
A29: Schválil: Mgr. Dominik Liberda

Sheet 3_investice_BN
A1: Základní škola Jeseník, příspěvková rganizace
A2: IČ: 70599921
A4: Pracoviště: B. Němcové
A6: Návrh rozpočtu 2025
A8: požadavek na investice
B10: 2025
A11: Návrh v tis. Kč | B11: požadavek
A12: 3500 | B12: rekonstrukce střechy vč. fotovoltaiky
A13: 300 | B13: výměna podlahové krytiny ve 2. patře
A14: 0
A15: 0
A16: 0
A17: 0
A18: 0
A19: 0
A20: =SUM(B20:B20) -> 0
A21: =SUM(B21:B21) -> 0
A22: =SUM(B22:B22) -> 0
A23: =SUM(A11:A22) -> 3800 | B23: =SUM(B20:B22) -> 0
A25: V Jeseníku dne: | B25: 45575
A27: Vypracovala: Ing. Markéta Mikulová
A29: Schválil: Mgr. Dominik Liberda

Sheet 3_investice ŠJ
A1: Základní škola Jeseník, příspěvková rganizace
A2: IČ: 70599921
A4: Pracoviště: školní jídelna
A6: Návrh rozpočtu 2025
A8: požadavek na investice
B10: 2025
A11: Návrh v tis. Kč | B11: požadavek
A12: 5000 | B12: nová vývařovna pro ZŠ Jeseník vč. projektové dokumentace
A13: 150 | B13: Jídelna PR nová myčka
A14: 0
A15: 0
A16: 0
A17: 0
A18: 0
A19: 0
A20: =SUM(B20:B20) -> 0
A21: =SUM(B21:B21) -> 0
A22: =SUM(B22:B22) -> 0
A23: =SUM(A11:A22) -> 5150 | B23: =SUM(B20:B22) -> 0
A25: V Jeseníku dne: | B25: 45575
A27: Vypracovala: Ing. Markéta Mikulová
A29: Schválil: Mgr. Dominik Liberda

Sheet 4_Opravy vybavení PR
A1: Základní škola Jeseník, příspěvková rganizace
A2: IČ: 70599921
A4: Pracoviště: Průchodní
A6: Návrh rozpočtu 2025
A8: požadavek na opravy a vybavení
A9: Návrh v tis. Kč | B9: z toho: | D9: komentář
B10: příspěvek zřizovatele | C10: vlastní zdroje
A11: =B11+C11 -> 120 | B11: 120 | D11: Malování
A12: =B12+C12 -> 150 | B12: 150 | D12: Opravy a opravy po revizích
A13: =B13+C13 -> 170 | B13: 170 | D13: Výměna podlah (PVC)
A14: =B14+C14 -> 50 | B14: 50 | D14: Oprava venkovních laviček
A15: =B15+C15 -> 120 | B15: 120 | D15: Nábytek
A16: =B16+C16 -> 276 | B16: 276 | D16: PC, projektory, tabule
A17: =B17+C17 -> 0
A18: =B18+C18 -> 0
A19: =B19+C19 -> 0
A20: =B20+C20 -> 0
A21: =B21+C21 -> 0
A22: =SUM(A11:A21) -> 886 | B22: =SUM(B11:B21) -> 886 | C22: =SUM(C11:C21) -> 0

Sheet 4_Opravy vybevení NB
A1: Základní škola Jeseník, příspěvková rganizace
A2: IČ: 70599921
A4: Pracoviště: Nábřežní
A6: Návrh rozpočtu 2025
A8: požadavek na opravy a vybavení
A9: Návrh v tis. Kč | B9: z toho: | D9: komentář
B10: příspěvek zřizovatele | C10: vlastní zdroje
A11: =B11+C11 -> 140 | B11: 140 | C11: 0 | D11: Malování - HORNÍ PATRO
A12: =B12+C12 -> 180 | B12: 180 | D12: Opravy a opravy po revizích - HORNÍ PATRO
A13: =B13+C13 -> 180 | B13: 180 | D13: Výměna podlah (PVC) - horní patro
A14: =B14+C14 -> 1500 | B14: 1500 | D14: Vybavení učeben a kanceláří po povodni -nebude na stejné úrovni jako před povedněni.
A15: =B15+C15 -> 0
A16: =B16+C16 -> 0
A17: =B17+C17 -> 0
A18: =B18+C18 -> 0
A19: =B19+C19 -> 0
A20: =B20+C20 -> 0
A21: =B21+C21 -> 0
A22: =SUM(A11:A21) -> 2000 | B22: =SUM(B11:B21) -> 2000 | C22: =SUM(C11:C21) -> 0

Sheet 4_Opravy vybavení BN
A1: Základní škola Jeseník, příspěvková rganizace
A2: IČ: 70599921
A4: Pracoviště: B. Němcové
A6: Návrh rozpočtu 2025
A8: požadavek na opravy a vybavení
A9: Návrh v tis. Kč | B9: z toho: | D9: komentář
B10: příspěvek zřizovatele | C10: vlastní zdroje
A11: =B11+C11 -> 100 | B11: 100 | D11: Malování
A12: =B12+C12 -> 270 | B12: 270 | D12: Opravy a opravy po revizích
A13: =B13+C13 -> 200 | B13: 200 | D13: Výměna podlah (PVC)
A14: =B14+C14 -> 50 | B14: 50 | D14: OPRAVA HERNÍCH PRVKŮ
A15: =B15+C15 -> 100 | B15: 100 | D15: Nábytek
A16: =B16+C16 -> 150 | B16: 50 | C16: 100 | D16: PC, projektory, tabule
A17: =B17+C17 -> 0
A18: =B18+C18 -> 0
A19: =B19+C19 -> 0
A20: =B20+C20 -> 0
A21: =B21+C21 -> 0
A22: =SUM(A11:A21) -> 870 | B22: =SUM(B11:B21) -> 770 | C22: =SUM(C11:C21) -> 100

Sheet 4_Opravy vybavení ŠJ
A1: Základní škola Jeseník, příspěvková rganizace
A2: IČ: 70599921
A4: Pracoviště: Školní jídelna
A6: Návrh rozpočtu 2025
A8: požadavek na opravy a vybavení
A9: Návrh v tis. Kč | B9: z toho: | D9: komentář
B10: příspěvek zřizovatele | C10: vlastní zdroje
A11: =B11+C11 -> 60 | B11: 60 | C11: 0 | D11: Opravy po revizích
A12: =B12+C12 -> 0
A13: =B13+C13 -> 0
A14: =B14+C14 -> 0
A15: =B15+C15 -> 0
A16: =B16+C16 -> 0
A17: =B17+C17 -> 0
A18: =B18+C18 -> 0
A19: =B19+C19 -> 0
A20: =B20+C20 -> 0
A21: =B21+C21 -> 0
A22: =SUM(A11:A21) -> 60 | B22: =SUM(B11:B21) -> 60 | C22: =SUM(C11:C21) -> 0
